BEGIN:VCALENDAR
VERSION:2.0
PRODID:-//CiviCRM//NONSGML CiviEvent iCal//EN
X-WR-TIMEZONE:America/New_York
METHOD:PUBLISH
BEGIN:VTIMEZONE
TZID:America/New_York
BEGIN:DAYLIGHT
TZOFFSETFROM:-0400
TZOFFSETTO:-0400
TZNAME:EDT
DTSTART:20260929T000000
END:DAYLIGHT
END:VTIMEZONE
BEGIN:VEVENT
UID:CiviCRM_EventID_327_faa077a2cac59a8cde21b6bdb5aff521@apereo.civicrm.org
SUMMARY:EDUCAUSE Annual Conference
X-ALT-DESC;FMTTYPE=text/html:<!DOCTYPE HTML PUBLIC
  "-//W3C//DTD HTML 3.2//EN"><html><body><p>The EDU
 CAUSE Annual Conference connects the best thinkers
  in higher education technology.</p>\n \n <p>This 
 is THE event where professionals and technology pr
 oviders from around the world gather to network\, 
 share ideas\, grow professionally\, and discover s
 olutions to today’s challenges. It’s the largest g
 athering of your peers…people you can relate to\, 
 learn from\, and stay connected to throughout the 
 year.</p>\n \n <p>Visit <a href="https://events.ed
 ucause.edu/annual-conference/2026">events.educause
 .edu/annual-conference/2026</a> for more informati
 on!</p></body></html>
DESCRIPTION:The EDUCAUSE Annual Conference connects the best t
 hinkers in higher education technology.\n \n \n \n
  This is THE event where professionals and technol
 ogy providers from around the world gather to netw
 ork\, share ideas\, grow professionally\, and disc
 over solutions to today’s challenges. It’s the lar
 gest gathering of your peers…people you can relate
  to\, learn from\, and stay connected to throughou
 t the year.\n \n \n \n Visit events.educause.edu/a
 nnual-conference/2026 (https://events.educause.edu
 /annual-conference/2026) for more information!\n \
 n 
CATEGORIES:Conference
CALSCALE:GREGORIAN
DTSTAMP;TZID=America/New_York:20260929T000000
DTSTART;TZID=America/New_York:20260929T000000
DTEND;TZID=America/New_York:20261002T000000
LOCATION:CO \n United States\n 
URL:https://apereo.civicrm.org/civicrm/event/info?reset=1&id=327
END:VEVENT
END:VCALENDAR
